BEGIN:VCALENDAR
VERSION:2.0
PRODID:-//Sabre//Sabre VObject 4.5.8//EN
CALSCALE:GREGORIAN
BEGIN:VEVENT
UID:criticalmass-one-witten-1741971600
DTSTAMP:20260425T181025Z
SUMMARY:Critical Mass Witten 14.03.2025
DTSTART;TZID=Europe/Berlin:20250314T180000
DTEND;TZID=Europe/Berlin:20250314T200000
LOCATION:Rathhausplatz
GEO:51.439554;7.336029
URL;VALUE=URI:https://criticalmass.in/witten/2025-03-14
END:VEVENT
END:VCALENDAR
