BEGIN:VCALENDAR
VERSION:2.0
PRODID:-//Sabre//Sabre VObject 4.5.8//EN
CALSCALE:GREGORIAN
BEGIN:VEVENT
UID:criticalmass-one-witten-1734109200
DTSTAMP:20260424T195742Z
SUMMARY:Critical Mass Witten 13.12.2024
DTSTART;TZID=Europe/Berlin:20241213T180000
DTEND;TZID=Europe/Berlin:20241213T200000
LOCATION:Rathhausplatz
GEO:51.439554;7.336029
URL;VALUE=URI:https://criticalmass.in/witten/2024-12-13
END:VEVENT
END:VCALENDAR
