BEGIN:VCALENDAR
VERSION:2.0
PRODID:-//Sabre//Sabre VObject 4.5.8//EN
CALSCALE:GREGORIAN
BEGIN:VEVENT
UID:criticalmass-one-witten-1728662400
DTSTAMP:20260425T212925Z
SUMMARY:Critical Mass Witten 11.10.2024
DTSTART;TZID=Europe/Berlin:20241011T180000
DTEND;TZID=Europe/Berlin:20241011T200000
LOCATION:Rathhausplatz
GEO:51.439554;7.336029
URL;VALUE=URI:https://criticalmass.in/witten/2024-10-11
END:VEVENT
END:VCALENDAR
