BEGIN:VCALENDAR
VERSION:2.0
PRODID:-//Sabre//Sabre VObject 4.5.8//EN
CALSCALE:GREGORIAN
BEGIN:VEVENT
UID:criticalmass-one-witten-1709917200
DTSTAMP:20260423T154344Z
SUMMARY:Critical Mass Witten 08.03.2024
DTSTART;TZID=Europe/Berlin:20240308T180000
DTEND;TZID=Europe/Berlin:20240308T200000
LOCATION:Rathhausplatz
GEO:51.439554;7.336029
URL;VALUE=URI:https://criticalmass.in/witten/2024-03-08
END:VEVENT
END:VCALENDAR
