BEGIN:VCALENDAR
VERSION:2.0
PRODID:-//Sabre//Sabre VObject 4.5.8//EN
CALSCALE:GREGORIAN
BEGIN:VEVENT
UID:criticalmass-one-witten-1691769600
DTSTAMP:20260423T064822Z
SUMMARY:Critical Mass Witten 11.08.2023
DTSTART;TZID=Europe/Berlin:20230811T180000
DTEND;TZID=Europe/Berlin:20230811T200000
LOCATION:Rathhausplatz
GEO:51.439554;7.336029
URL;VALUE=URI:https://criticalmass.in/witten/2023-08-11
END:VEVENT
END:VCALENDAR
