BEGIN:VCALENDAR
VERSION:2.0
PRODID:-//Sabre//Sabre VObject 4.5.8//EN
CALSCALE:GREGORIAN
BEGIN:VEVENT
UID:criticalmass-one-winston-salem-1769882400
DTSTAMP:20260423T234847Z
SUMMARY:Alex Pretti Memorial Ride — The Winston Buds and BEERSNGEARS
DESCRIPTION:Saturday: We will meet at the Fiddlin’ Fish parking lot aroun
 d 1:00pm and roll out at 1:30pm. The weather will be terrible\, please be 
 safe\, dress appropriately with high visibility clothing\, and burn head a
 nd tail lights. We will try to stick to flat\, de-iced parts of the city f
 or 2-3 miles. Knobby tires recommended.\n
DTSTART;TZID=America/New_York:20260131T130000
DTEND;TZID=America/New_York:20260131T150000
LOCATION:Fiddlin’ Fish parking lot\, Winston-Salem
GEO:36.104158;-80.246606
URL;VALUE=URI:https://criticalmass.in/winston-salem/alex-pretti-memorial-ri
 de-winston-salem-2026-01-31
END:VEVENT
END:VCALENDAR
