BEGIN:VCALENDAR
VERSION:2.0
PRODID:-//Sabre//Sabre VObject 4.5.8//EN
CALSCALE:GREGORIAN
BEGIN:VEVENT
UID:criticalmass-one-wilhelmshaven-1772211600
DTSTAMP:20260419T164650Z
SUMMARY:Critical Mass Wilhelmshaven 27.02.2026
DTSTART;TZID=Europe/Berlin:20260227T180000
DTEND;TZID=Europe/Berlin:20260227T200000
LOCATION:Rathausplatz\, WHV
GEO:53.527529;8.109884
URL;VALUE=URI:https://criticalmass.in/wilhelmshaven/2026-02-27
END:VEVENT
END:VCALENDAR
