BEGIN:VCALENDAR
VERSION:2.0
PRODID:-//Sabre//Sabre VObject 4.5.8//EN
CALSCALE:GREGORIAN
BEGIN:VEVENT
UID:criticalmass-one-wilhelmshaven-1764349200
DTSTAMP:20260419T134800Z
SUMMARY:Critical Mass Wilhelmshaven 28.11.2025
DTSTART;TZID=Europe/Berlin:20251128T180000
DTEND;TZID=Europe/Berlin:20251128T200000
LOCATION:Rathausplatz\, WHV
GEO:53.527529;8.109884
URL;VALUE=URI:https://criticalmass.in/wilhelmshaven/2025-11-28
END:VEVENT
END:VCALENDAR
