BEGIN:VCALENDAR
VERSION:2.0
PRODID:-//Sabre//Sabre VObject 4.5.8//EN
CALSCALE:GREGORIAN
BEGIN:VEVENT
UID:criticalmass-one-wilhelmshaven-1756483200
DTSTAMP:20260419T134638Z
SUMMARY:Critical Mass Wilhelmshaven 29.08.2025
DTSTART;TZID=Europe/Berlin:20250829T180000
DTEND;TZID=Europe/Berlin:20250829T200000
LOCATION:Rathausplatz\, WHV
GEO:53.527529;8.109884
URL;VALUE=URI:https://criticalmass.in/wilhelmshaven/2025-08-29
END:VEVENT
END:VCALENDAR
