BEGIN:VCALENDAR
VERSION:2.0
PRODID:-//Sabre//Sabre VObject 4.5.8//EN
CALSCALE:GREGORIAN
BEGIN:VEVENT
UID:criticalmass-one-wilhelmshaven-1682697600
DTSTAMP:20260419T134601Z
SUMMARY:Critical Mass Wilhelmshaven 28.04.2023
DTSTART;TZID=Europe/Berlin:20230428T180000
DTEND;TZID=Europe/Berlin:20230428T200000
LOCATION:Rathausplatz\, WHV
GEO:53.527529;8.109884
URL;VALUE=URI:https://criticalmass.in/wilhelmshaven/2023-04-28
END:VEVENT
END:VCALENDAR
