BEGIN:VCALENDAR
VERSION:2.0
PRODID:-//Sabre//Sabre VObject 4.5.8//EN
CALSCALE:GREGORIAN
BEGIN:VEVENT
UID:criticalmass-one-wilhelmshaven-1669395600
DTSTAMP:20260419T135247Z
SUMMARY:Critical Mass Wilhelmshaven 25.11.2022
DTSTART;TZID=Europe/Berlin:20221125T180000
DTEND;TZID=Europe/Berlin:20221125T200000
LOCATION:Rathausplatz\, WHV
GEO:53.527529;8.109884
URL;VALUE=URI:https://criticalmass.in/wilhelmshaven/2022-11-25
END:VEVENT
END:VCALENDAR
