BEGIN:VCALENDAR
VERSION:2.0
PRODID:-//Sabre//Sabre VObject 4.5.8//EN
CALSCALE:GREGORIAN
BEGIN:VEVENT
UID:criticalmass-one-wiesbaden-1758459600
DTSTAMP:20260422T162627Z
SUMMARY:Kidical Mass Wiesbaden 21.09.2025
DESCRIPTION:Fröhlicher Kinder-Fahrrad-Korso durch die Wiesbadener Innensta
 dt.
DTSTART;TZID=Europe/Berlin:20250921T150000
DTEND;TZID=Europe/Berlin:20250921T170000
LOCATION:Wiesbaden Dern'sches Gelände / Innenstadt
GEO:50.081131;8.242689
URL;VALUE=URI:https://criticalmass.in/wiesbaden/kidical-mass-wiesbaden-sept
 ember-2025
END:VEVENT
END:VCALENDAR
