BEGIN:VCALENDAR
VERSION:2.0
PRODID:-//Sabre//Sabre VObject 4.5.8//EN
CALSCALE:GREGORIAN
BEGIN:VEVENT
UID:criticalmass-one-wiesbaden-1683464400
DTSTAMP:20260423T122726Z
SUMMARY:Kidical Mass Wiesbaden 07.05.2023
DTSTART;TZID=Europe/Berlin:20230507T150000
DTEND;TZID=Europe/Berlin:20230507T170000
LOCATION:Dernsches Gelände
GEO:50.081131;8.242689
URL;VALUE=URI:https://criticalmass.in/wiesbaden/kidical-mass-wiesbaden-mai-
 2023
END:VEVENT
END:VCALENDAR
