BEGIN:VCALENDAR
VERSION:2.0
PRODID:-//Sabre//Sabre VObject 4.5.8//EN
CALSCALE:GREGORIAN
BEGIN:VEVENT
UID:criticalmass-one-wiesbaden-1652619600
DTSTAMP:20260422T124058Z
SUMMARY:Kidical Mass Wiesbaden 15.05.2022
DTSTART;TZID=Europe/Berlin:20220515T150000
DTEND;TZID=Europe/Berlin:20220515T170000
LOCATION:Dernsches Gelände
GEO:50.080635;8.242750
URL;VALUE=URI:https://criticalmass.in/wiesbaden/kidical-mass-wiesbaden-mai-
 2022
END:VEVENT
END:VCALENDAR
