BEGIN:VCALENDAR
VERSION:2.0
PRODID:-//Sabre//Sabre VObject 4.5.8//EN
CALSCALE:GREGORIAN
BEGIN:VEVENT
UID:criticalmass-one-wiesbaden-1745758800
DTSTAMP:20260421T224918Z
SUMMARY:Kidical Mass Wiesbaden 27.04.2025
DTSTART;TZID=Europe/Berlin:20250427T150000
DTEND;TZID=Europe/Berlin:20250427T170000
LOCATION:Wiesbaden Dern'sches Gelände
GEO:50.081131;8.242689
URL;VALUE=URI:https://criticalmass.in/wiesbaden/kidical-mass-wiesbaden-apri
 l-2025
END:VEVENT
END:VCALENDAR
