BEGIN:VCALENDAR
VERSION:2.0
PRODID:-//Sabre//Sabre VObject 4.5.8//EN
CALSCALE:GREGORIAN
BEGIN:VEVENT
UID:criticalmass-one-wiesbaden-1712322000
DTSTAMP:20260421T183536Z
SUMMARY:Kidical Mass Wiesbaden 05.04.2024
DESCRIPTION:Wir fahren ca. 1 Stunde und 5 km. Ende ist an einem Spielplatz.
  Weitere Infos werden im Vorfeld auf der Website bekannt gegeben
DTSTART;TZID=Europe/Berlin:20240405T150000
DTEND;TZID=Europe/Berlin:20240405T170000
LOCATION:Wiesbaden Dern'sches Gelände
GEO:50.081131;8.242689
URL;VALUE=URI:https://criticalmass.in/wiesbaden/kidical-mass-wiesbaden-apri
 l-2024
END:VEVENT
END:VCALENDAR
