BEGIN:VCALENDAR
VERSION:2.0
PRODID:-//Sabre//Sabre VObject 4.5.8//EN
CALSCALE:GREGORIAN
BEGIN:VEVENT
UID:criticalmass-one-wiesbaden-1771608600
DTSTAMP:20260423T185207Z
SUMMARY:Critical Mass Wiesbaden 20.02.2026
DTSTART;TZID=Europe/Berlin:20260220T183000
DTEND;TZID=Europe/Berlin:20260220T203000
LOCATION:Quartiersplatz an der Bertramstraße
GEO:50.079944;8.234528
URL;VALUE=URI:https://criticalmass.in/wiesbaden/2026-02-20
END:VEVENT
END:VCALENDAR
