BEGIN:VCALENDAR
VERSION:2.0
PRODID:-//Sabre//Sabre VObject 4.5.8//EN
CALSCALE:GREGORIAN
BEGIN:VEVENT
UID:criticalmass-one-wiesbaden-1766165400
DTSTAMP:20260424T100325Z
SUMMARY:Critical Mass Wiesbaden 19.12.2025
DTSTART;TZID=Europe/Berlin:20251219T183000
DTEND;TZID=Europe/Berlin:20251219T203000
LOCATION:Quartiersplatz an der Bertramstraße
GEO:50.079944;8.234528
URL;VALUE=URI:https://criticalmass.in/wiesbaden/2025-12-19
END:VEVENT
END:VCALENDAR
