BEGIN:VCALENDAR
VERSION:2.0
PRODID:-//Sabre//Sabre VObject 4.5.8//EN
CALSCALE:GREGORIAN
BEGIN:VEVENT
UID:criticalmass-one-wiesbaden-1634315400
DTSTAMP:20260424T092545Z
SUMMARY:criticalmasswiesbaden 15.10.2021
DTSTART;TZID=Europe/Berlin:20211015T183000
DTEND;TZID=Europe/Berlin:20211015T203000
LOCATION:Kofferskulptur Wiesbaden Hbf
GEO:50.071092;8.244038
URL;VALUE=URI:https://criticalmass.in/wiesbaden/2021-10-15
END:VEVENT
END:VCALENDAR
