BEGIN:VCALENDAR
VERSION:2.0
PRODID:-//Sabre//Sabre VObject 4.5.8//EN
CALSCALE:GREGORIAN
BEGIN:VEVENT
UID:criticalmass-one-wiesbaden-1605893400
DTSTAMP:20260422T172450Z
SUMMARY:criticalmasswiesbaden 20.11.2020
DTSTART;TZID=Europe/Berlin:20201120T183000
DTEND;TZID=Europe/Berlin:20201120T203000
LOCATION:Platane vor dem Hauptbahnhof Wiesbaden
GEO:50.071223;8.242557
URL;VALUE=URI:https://criticalmass.in/wiesbaden/2020-11-20
END:VEVENT
END:VCALENDAR
