BEGIN:VCALENDAR
VERSION:2.0
PRODID:-//Sabre//Sabre VObject 4.5.8//EN
CALSCALE:GREGORIAN
BEGIN:VEVENT
UID:criticalmass-one-wiesbaden-1604595600
DTSTAMP:20260421T224505Z
SUMMARY:criticalmasswiesbaden 05.11.2020
DTSTART;TZID=Europe/Berlin:20201105T180000
DTEND;TZID=Europe/Berlin:20201105T200000
LOCATION:Bahnhofsvorplatz
GEO:50.071183;8.242803
URL;VALUE=URI:https://criticalmass.in/wiesbaden/2020-11-05
END:VEVENT
END:VCALENDAR
