BEGIN:VCALENDAR
VERSION:2.0
PRODID:-//Sabre//Sabre VObject 4.5.8//EN
CALSCALE:GREGORIAN
BEGIN:VEVENT
UID:criticalmass-one-wiesbaden-1601568000
DTSTAMP:20260421T151506Z
SUMMARY:criticalmasswiesbaden 01.10.2020
DTSTART;TZID=Europe/Berlin:20201001T180000
DTEND;TZID=Europe/Berlin:20201001T200000
LOCATION:Bahnhofsvorplatz
GEO:50.071183;8.242803
URL;VALUE=URI:https://criticalmass.in/wiesbaden/2020-10-01
END:VEVENT
END:VCALENDAR
