BEGIN:VCALENDAR
VERSION:2.0
PRODID:-//Sabre//Sabre VObject 4.5.8//EN
CALSCALE:GREGORIAN
BEGIN:VEVENT
UID:criticalmass-one-wiesbaden-1582306200
DTSTAMP:20260422T100331Z
SUMMARY:Critical Mass Wiesbaden
DTSTART;TZID=Europe/Berlin:20200221T183000
DTEND;TZID=Europe/Berlin:20200221T203000
LOCATION:Kofferskulptur
GEO:50.071230;8.244209
URL;VALUE=URI:https://criticalmass.in/wiesbaden/2020-02-21
END:VEVENT
END:VCALENDAR
