BEGIN:VCALENDAR
VERSION:2.0
PRODID:-//Sabre//Sabre VObject 4.5.8//EN
CALSCALE:GREGORIAN
BEGIN:VEVENT
UID:criticalmass-one-wiesbaden-1541091600
DTSTAMP:20260421T151505Z
SUMMARY:Fahrradkorso - Critical Mass Wiesbaden 01.11.2018
DTSTART;TZID=Europe/Berlin:20181101T180000
DTEND;TZID=Europe/Berlin:20181101T200000
LOCATION:Bahnhofsvorplatz
GEO:50.071183;8.242803
URL;VALUE=URI:https://criticalmass.in/wiesbaden/2018-11-01
END:VEVENT
END:VCALENDAR
