BEGIN:VCALENDAR
VERSION:2.0
PRODID:-//Sabre//Sabre VObject 4.5.8//EN
CALSCALE:GREGORIAN
BEGIN:VEVENT
UID:criticalmass-one-wiesbaden-1530806400
DTSTAMP:20260421T151501Z
SUMMARY:Fahrradkorso - Critical Mass Wiesbaden 05.07.2018
DTSTART;TZID=Europe/Berlin:20180705T180000
DTEND;TZID=Europe/Berlin:20180705T200000
LOCATION:Bahnhofsvorplatz
GEO:50.071183;8.242803
URL;VALUE=URI:https://criticalmass.in/wiesbaden/2018-07-05
END:VEVENT
END:VCALENDAR
