BEGIN:VCALENDAR
VERSION:2.0
PRODID:-//Sabre//Sabre VObject 4.5.8//EN
CALSCALE:GREGORIAN
BEGIN:VEVENT
UID:criticalmass-one-wiesbaden-1504800000
DTSTAMP:20260423T084629Z
SUMMARY:Fahrradkorso - Critical Mass Wiesbaden 07.09.2017
DTSTART;TZID=Europe/Berlin:20170907T180000
DTEND;TZID=Europe/Berlin:20170907T200000
LOCATION:Bahnhofsvorplatz
GEO:50.071183;8.242803
URL;VALUE=URI:https://criticalmass.in/wiesbaden/2017-09-07
END:VEVENT
END:VCALENDAR
