BEGIN:VCALENDAR
VERSION:2.0
PRODID:-//Sabre//Sabre VObject 4.5.8//EN
CALSCALE:GREGORIAN
BEGIN:VEVENT
UID:criticalmass-one-wiesbaden-1486054800
DTSTAMP:20260424T104459Z
SUMMARY:Fahrradkorso - Critical Mass Wiesbaden 02.02.2017
DTSTART;TZID=Europe/Berlin:20170202T180000
DTEND;TZID=Europe/Berlin:20170202T200000
LOCATION:Bahnhofsvorplatz
GEO:50.071183;8.242803
URL;VALUE=URI:https://criticalmass.in/wiesbaden/2017-02-02
END:VEVENT
END:VCALENDAR
