BEGIN:VCALENDAR
VERSION:2.0
PRODID:-//Sabre//Sabre VObject 4.5.8//EN
CALSCALE:GREGORIAN
BEGIN:VEVENT
UID:criticalmass-one-wiesbaden-1483632000
DTSTAMP:20260423T113012Z
SUMMARY:Fahrradkorso - Critical Mass Wiesbaden 05.01.2017
DTSTART;TZID=Europe/Berlin:20170105T170000
DTEND;TZID=Europe/Berlin:20170105T190000
LOCATION:Bahnhofsvorplatz
GEO:50.071183;8.242803
URL;VALUE=URI:https://criticalmass.in/wiesbaden/2017-01-05
END:VEVENT
END:VCALENDAR
