BEGIN:VCALENDAR
VERSION:2.0
PRODID:-//Sabre//Sabre VObject 4.5.8//EN
CALSCALE:GREGORIAN
BEGIN:VEVENT
UID:criticalmass-one-wiesbaden-1457024400
DTSTAMP:20260422T172447Z
SUMMARY:Fahrradkorso - Critical Mass Wiesbaden 03.03.2016
DTSTART;TZID=Europe/Berlin:20160303T180000
DTEND;TZID=Europe/Berlin:20160303T200000
LOCATION:Bahnhofsvorplatz
GEO:50.071183;8.242803
URL;VALUE=URI:https://criticalmass.in/wiesbaden/2016-03-03
END:VEVENT
END:VCALENDAR
