BEGIN:VCALENDAR
VERSION:2.0
PRODID:-//Sabre//Sabre VObject 4.5.8//EN
CALSCALE:GREGORIAN
BEGIN:VEVENT
UID:criticalmass-one-wiesbaden-1446742800
DTSTAMP:20260421T151500Z
SUMMARY:Fahrradkorso - Critical Mass Wiesbaden 05.11.2015
DTSTART;TZID=Europe/Berlin:20151105T180000
DTEND;TZID=Europe/Berlin:20151105T200000
LOCATION:Bahnhofsvorplatz
GEO:50.071183;8.242803
URL;VALUE=URI:https://criticalmass.in/wiesbaden/2015-11-05
END:VEVENT
END:VCALENDAR
