BEGIN:VCALENDAR
VERSION:2.0
PRODID:-//Sabre//Sabre VObject 4.5.8//EN
CALSCALE:GREGORIAN
BEGIN:VEVENT
UID:criticalmass-one-wiesbaden-1441296000
DTSTAMP:20260422T002737Z
SUMMARY:Fahrradkorso - Critical Mass Wiesbaden 03.09.2015
DTSTART;TZID=Europe/Berlin:20150903T180000
DTEND;TZID=Europe/Berlin:20150903T200000
LOCATION:Bahnhofsvorplatz
GEO:50.071183;8.242803
URL;VALUE=URI:https://criticalmass.in/wiesbaden/2015-09-03
END:VEVENT
END:VCALENDAR
