BEGIN:VCALENDAR
VERSION:2.0
PRODID:-//Sabre//Sabre VObject 4.5.8//EN
CALSCALE:GREGORIAN
BEGIN:VEVENT
UID:criticalmass-one-wiesbaden-1438876800
DTSTAMP:20260421T132212Z
SUMMARY:Fahrradkorso - Critical Mass Wiesbaden 06.08.2015
DTSTART;TZID=Europe/Berlin:20150806T180000
DTEND;TZID=Europe/Berlin:20150806T200000
LOCATION:Bahnhofsvorplatz
GEO:50.071183;8.242803
URL;VALUE=URI:https://criticalmass.in/wiesbaden/2015-08-06
END:VEVENT
END:VCALENDAR
