BEGIN:VCALENDAR
VERSION:2.0
PRODID:-//Sabre//Sabre VObject 4.5.8//EN
CALSCALE:GREGORIAN
BEGIN:VEVENT
UID:criticalmass-one-wiesbaden-1398960000
DTSTAMP:20260423T113542Z
SUMMARY:Fahrradkorso - Critical Mass Wiesbaden 01.05.2014
DTSTART;TZID=Europe/Berlin:20140501T180000
DTEND;TZID=Europe/Berlin:20140501T200000
LOCATION:Bahnhofsvorplatz
GEO:50.071183;8.242803
URL;VALUE=URI:https://criticalmass.in/wiesbaden/2014-05-01
END:VEVENT
END:VCALENDAR
