BEGIN:VCALENDAR
VERSION:2.0
PRODID:-//Sabre//Sabre VObject 4.5.8//EN
CALSCALE:GREGORIAN
BEGIN:VEVENT
UID:criticalmass-one-wiesbaden-1394125200
DTSTAMP:20260421T225232Z
SUMMARY:Fahrradkorso - Critical Mass Wiesbaden 06.03.2014
DTSTART;TZID=Europe/Berlin:20140306T180000
DTEND;TZID=Europe/Berlin:20140306T200000
LOCATION:Bahnhofsvorplatz
GEO:50.071183;8.242803
URL;VALUE=URI:https://criticalmass.in/wiesbaden/2014-03-06
END:VEVENT
END:VCALENDAR
