BEGIN:VCALENDAR
VERSION:2.0
PRODID:-//Sabre//Sabre VObject 4.5.8//EN
CALSCALE:GREGORIAN
BEGIN:VEVENT
UID:criticalmass-one-wiesbaden-1391706000
DTSTAMP:20260423T084650Z
SUMMARY:Fahrradkorso - Critical Mass Wiesbaden 06.02.2014
DTSTART;TZID=Europe/Berlin:20140206T180000
DTEND;TZID=Europe/Berlin:20140206T200000
LOCATION:Bahnhofsvorplatz
GEO:50.071183;8.242803
URL;VALUE=URI:https://criticalmass.in/wiesbaden/2014-02-06
END:VEVENT
END:VCALENDAR
