BEGIN:VCALENDAR
VERSION:2.0
PRODID:-//Sabre//Sabre VObject 4.5.8//EN
CALSCALE:GREGORIAN
BEGIN:VEVENT
UID:criticalmass-one-wien-1652533200
DTSTAMP:20260422T004936Z
SUMMARY:Kidical Mass Wien (AT) 14.05.2022
DTSTART;TZID=Europe/Vienna:20220514T150000
DTEND;TZID=Europe/Vienna:20220514T170000
LOCATION:Platz der Menschenrechte
GEO:48.202167;16.360574
URL;VALUE=URI:https://criticalmass.in/wien/kidical-mass-wien-mai-2022
END:VEVENT
END:VCALENDAR
