BEGIN:VCALENDAR
VERSION:2.0
PRODID:-//Sabre//Sabre VObject 4.5.8//EN
CALSCALE:GREGORIAN
BEGIN:VEVENT
UID:criticalmass-one-wien-1774022400
DTSTAMP:20260424T220504Z
SUMMARY:Critical Mass Wien Vienna 20.03.2026
DTSTART;TZID=Europe/Vienna:20260320T170000
DTEND;TZID=Europe/Vienna:20260320T190000
LOCATION:Schwarzenbergplatz
GEO:48.198720;16.375841
URL;VALUE=URI:https://criticalmass.in/wien/2026-03-20
END:VEVENT
END:VCALENDAR
