BEGIN:VCALENDAR
VERSION:2.0
PRODID:-//Sabre//Sabre VObject 4.5.8//EN
CALSCALE:GREGORIAN
BEGIN:VEVENT
UID:criticalmass-one-wien-1563548400
DTSTAMP:20260424T025949Z
SUMMARY:Critical Mass Wien Vienna 19.07.2019
DTSTART;TZID=Europe/Vienna:20190719T170000
DTEND;TZID=Europe/Vienna:20190719T190000
LOCATION:Schwarzenbergplatz
GEO:48.198720;16.375841
URL;VALUE=URI:https://criticalmass.in/wien/2019-07-19
END:VEVENT
END:VCALENDAR
