BEGIN:VCALENDAR
VERSION:2.0
PRODID:-//Sabre//Sabre VObject 4.5.8//EN
CALSCALE:GREGORIAN
BEGIN:VEVENT
UID:criticalmass-one-weyhe-1727514000
DTSTAMP:20260424T130830Z
SUMMARY:Kidical Mass Weyhe 28.09.2024
DTSTART;TZID=Europe/Berlin:20240928T110000
DTEND;TZID=Europe/Berlin:20240928T130000
LOCATION:Weyhe Grundschule Sudweyhe über Grundschule Lahausen
GEO:52.969603;8.842514
URL;VALUE=URI:https://criticalmass.in/weyhe/kidical-mass-weyhe-september-20
 24
END:VEVENT
END:VCALENDAR
