BEGIN:VCALENDAR
VERSION:2.0
PRODID:-//Sabre//Sabre VObject 4.5.8//EN
CALSCALE:GREGORIAN
BEGIN:VEVENT
UID:criticalmass-one-wetter-ruhr-1600441200
DTSTAMP:20260423T014423Z
SUMMARY:Erste Critical Mass Wetter (Ruhr)
DESCRIPTION:https://www.youtube.com/watch?v=3APGL8lCzj4
DTSTART;TZID=Europe/Berlin:20200918T170000
DTEND;TZID=Europe/Berlin:20200918T190000
LOCATION:Bahnhof\, Wetter (Ruhr)
GEO:51.386386;7.386460
URL;VALUE=URI:https://criticalmass.in/wetter-ruhr/2020-09-18
END:VEVENT
END:VCALENDAR
