BEGIN:VCALENDAR
VERSION:2.0
PRODID:-//Sabre//Sabre VObject 4.5.8//EN
CALSCALE:GREGORIAN
BEGIN:VEVENT
UID:criticalmass-one-westlake-village-1769886000
DTSTAMP:20260421T203253Z
SUMMARY:Alex Pretti Memorial Ride — JRA Bike Garage
DESCRIPTION:JRA Bike Garage in Westlake Village California. Meet 11am Roll 
 11:30. Gravel or MTB bike recommended.
DTSTART;TZID=America/Los_Angeles:20260131T110000
DTEND;TZID=America/Los_Angeles:20260131T130000
LOCATION:JRA Bike Garage\, Westlake Village
GEO:34.156031;-118.808018
URL;VALUE=URI:https://criticalmass.in/westlake-village/alex-pretti-memorial
 -ride-westlake-village-2026-01-31
END:VEVENT
END:VCALENDAR
