BEGIN:VCALENDAR
VERSION:2.0
PRODID:-//Sabre//Sabre VObject 4.5.8//EN
CALSCALE:GREGORIAN
BEGIN:VEVENT
UID:criticalmass-one-wesel-1695463200
DTSTAMP:20260424T200553Z
SUMMARY:Kidical Mass Wesel 23.09.2023
DTSTART;TZID=Europe/Berlin:20230923T120000
DTEND;TZID=Europe/Berlin:20230923T140000
LOCATION:Berliner-Tor-Platz
GEO:51.657138;6.621641
URL;VALUE=URI:https://criticalmass.in/wesel/kidical-mass-wesel-september-20
 23
END:VEVENT
END:VCALENDAR
