BEGIN:VCALENDAR
VERSION:2.0
PRODID:-//Sabre//Sabre VObject 4.5.8//EN
CALSCALE:GREGORIAN
BEGIN:VEVENT
UID:criticalmass-one-wesel-1747476000
DTSTAMP:20260423T215103Z
SUMMARY:Kidical Mass Wesel 17.05.2025
DESCRIPTION:Beschreibung: Wir fahren kinderfreundlich und mit Polizeibeglei
 tung über die Ringe & durch die Stadt.  Am Ende kommen wir am Berliner-To
 r-Platz gemütlich bei Limo\, Kaffee\, Kuchen und tollen Spielgeräten fü
 r die Kleinen zusammen für Austausch und mehr.
DTSTART;TZID=Europe/Berlin:20250517T120000
DTEND;TZID=Europe/Berlin:20250517T140000
LOCATION:Wesel Berliner-Tor-Platz
GEO:51.657138;6.621641
URL;VALUE=URI:https://criticalmass.in/wesel/kidical-mass-wesel-mai-2025
END:VEVENT
END:VCALENDAR
