BEGIN:VCALENDAR
VERSION:2.0
PRODID:-//Sabre//Sabre VObject 4.5.8//EN
CALSCALE:GREGORIAN
BEGIN:VEVENT
UID:criticalmass-one-wesel-1683450000
DTSTAMP:20260423T034247Z
SUMMARY:Kidical Mass Wesel 07.05.2023
DTSTART;TZID=Europe/Berlin:20230507T110000
DTEND;TZID=Europe/Berlin:20230507T130000
LOCATION:Großer Markt
GEO:51.656861;6.611385
URL;VALUE=URI:https://criticalmass.in/wesel/kidical-mass-wesel-mai-2023
END:VEVENT
END:VCALENDAR
