BEGIN:VCALENDAR
VERSION:2.0
PRODID:-//Sabre//Sabre VObject 4.5.8//EN
CALSCALE:GREGORIAN
BEGIN:VEVENT
UID:criticalmass-one-werder-havel-1664017200
DTSTAMP:20260420T213816Z
SUMMARY:Kidical Mass Werder (Havel) 24.09.2022
DTSTART;TZID=Europe/Berlin:20220924T130000
DTEND;TZID=Europe/Berlin:20220924T150000
LOCATION:Plantagenplatz 
GEO:52.377795;12.932815
URL;VALUE=URI:https://criticalmass.in/werder-havel/kidical-mass-werder-have
 l-september-2022
END:VEVENT
END:VCALENDAR
