BEGIN:VCALENDAR
VERSION:2.0
PRODID:-//Sabre//Sabre VObject 4.5.8//EN
CALSCALE:GREGORIAN
BEGIN:VEVENT
UID:criticalmass-one-wentorf-1676714400
DTSTAMP:20260426T030457Z
SUMMARY:Critical Mass Wentorf 18.02.2023
DTSTART;TZID=Europe/Berlin:20230218T110000
DTEND;TZID=Europe/Berlin:20230218T130000
LOCATION:Casino Park
GEO:53.489948;10.252712
URL;VALUE=URI:https://criticalmass.in/wentorf/2023-02-18
END:VEVENT
END:VCALENDAR
