BEGIN:VCALENDAR
VERSION:2.0
PRODID:-//Sabre//Sabre VObject 4.5.8//EN
CALSCALE:GREGORIAN
BEGIN:VEVENT
UID:criticalmass-one-wentorf-1671271200
DTSTAMP:20260424T174322Z
SUMMARY:Critical Mass Wentorf 17.12.2022
DTSTART;TZID=Europe/Berlin:20221217T110000
DTEND;TZID=Europe/Berlin:20221217T130000
LOCATION:Casino Park
GEO:53.489948;10.252712
URL;VALUE=URI:https://criticalmass.in/wentorf/2022-12-17
END:VEVENT
END:VCALENDAR
