BEGIN:VCALENDAR
VERSION:2.0
PRODID:-//Sabre//Sabre VObject 4.5.8//EN
CALSCALE:GREGORIAN
BEGIN:VEVENT
UID:criticalmass-one-wentorf-1668852000
DTSTAMP:20260425T153127Z
SUMMARY:Critical Mass Wentorf 19.11.2022
DTSTART;TZID=Europe/Berlin:20221119T110000
DTEND;TZID=Europe/Berlin:20221119T130000
LOCATION:Casino Park
GEO:53.489948;10.252712
URL;VALUE=URI:https://criticalmass.in/wentorf/2022-11-19
END:VEVENT
END:VCALENDAR
