BEGIN:VCALENDAR
VERSION:2.0
PRODID:-//Sabre//Sabre VObject 4.5.8//EN
CALSCALE:GREGORIAN
BEGIN:VEVENT
UID:criticalmass-one-wentorf-1655542800
DTSTAMP:20260425T164740Z
SUMMARY:Critical Mass Wentorf 18.06.2022
DESCRIPTION:und wieder geht von wentorf durch die umliegenden regionen - zi
 el diesmal das wentorfer radhaus zur abschlussveranstaltung des diesjähri
 gen stadtradelns - mit sieger*innenehrung und aktionen!!!
DTSTART;TZID=Europe/Berlin:20220618T110000
DTEND;TZID=Europe/Berlin:20220618T130000
LOCATION:Casino Park
GEO:53.489948;10.252712
URL;VALUE=URI:https://criticalmass.in/wentorf/2022-06-18
END:VEVENT
END:VCALENDAR
