BEGIN:VCALENDAR
VERSION:2.0
PRODID:-//Sabre//Sabre VObject 4.5.8//EN
CALSCALE:GREGORIAN
BEGIN:VEVENT
UID:criticalmass-one-wentorf-1650099600
DTSTAMP:20260424T191615Z
SUMMARY:Critical Mass und Check&Clean-Aktion
DESCRIPTION:Und wieder fahren wir durch die Städte und Dörfer: Wentorf\, 
 Börnsen und Reinbek. An diesem Samstag mit "Check & Clean" Aktion. Also k
 ommt mit den Euren bikes - wir nehmen uns die Straße \;-)
DTSTART;TZID=Europe/Berlin:20220416T110000
DTEND;TZID=Europe/Berlin:20220416T130000
LOCATION:Casino Park
GEO:53.490037;10.252690
URL;VALUE=URI:https://criticalmass.in/wentorf/2022-04-16
END:VEVENT
END:VCALENDAR
